BEGIN:VCALENDAR
VERSION:2.0
PRODID:-//Louisiana Department of Public Safety &amp; Corrections - ECPv6.6.4.2//NONSGML v1.0//EN
CALSCALE:GREGORIAN
METHOD:PUBLISH
X-WR-CALNAME:Louisiana Department of Public Safety &amp; Corrections
X-ORIGINAL-URL:https://doc.la.gov
X-WR-CALDESC:Events for Louisiana Department of Public Safety &amp; Corrections
REFRESH-INTERVAL;VALUE=DURATION:PT1H
X-Robots-Tag:noindex
X-PUBLISHED-TTL:PT1H
BEGIN:VTIMEZONE
TZID:America/Chicago
BEGIN:DAYLIGHT
TZOFFSETFROM:-0600
TZOFFSETTO:-0500
TZNAME:CDT
DTSTART:20240310T080000
END:DAYLIGHT
BEGIN:STANDARD
TZOFFSETFROM:-0500
TZOFFSETTO:-0600
TZNAME:CST
DTSTART:20241103T070000
END:STANDARD
END:VTIMEZONE
BEGIN:VEVENT
DTSTART;TZID=America/Chicago:20241023T090000
DTEND;TZID=America/Chicago:20241023T120000
DTSTAMP:20260419T150443
CREATED:20241022T213225Z
LAST-MODIFIED:20241022T213815Z
UID:8392-1729674000-1729684800@doc.la.gov
SUMMARY:Acadiana Diversity Job Fair
DESCRIPTION:Acadiana Diversity Job Fair connects employers with a diverse applicant pool including persons with disabilities\, justice involved and formerly incarcerated persons\, and the general public. \nThis event is FREE and open to the public.
URL:https://doc.la.gov/event/acadiana-diversity-job-fair/
LOCATION:Heymann Convention Center\, 1373 S. College Rd.\, Lafayette\, LA\, 70503\, United States
CATEGORIES:Job Fairs
END:VEVENT
BEGIN:VEVENT
DTSTART;TZID=America/Chicago:20241031T100000
DTEND;TZID=America/Chicago:20241031T140000
DTSTAMP:20260419T150443
CREATED:20241022T214315Z
LAST-MODIFIED:20241022T214315Z
UID:8394-1730368800-1730383200@doc.la.gov
SUMMARY:South Louisiana Community College - BITS & STEM Career Fair
DESCRIPTION:South Louisiana Community College is honored to continue to fulfill its commitment to the community by connecting employers with highly skilled graduates who are now entering the workforce. \nThis career fair is an excellent opportunity for SoLAcc students\, alumni\, and community members to connect to employers in the areas of  STEM\, Welding\, Electrician\, Automotive\, and HVAC. \nIt is also an opportunity for employers to showcase the many employment and internship opportunities they have available. We encourage job seekers to dress for success and bring their resumes. \nStudents and alumni can view the companies who have registered for the event by logging in to Handshake at: \nhttps://www.solacc.edu/career-success/slcc-online-job-board \nQuestions? Contact Career Services at (337) 521-6984 or careertransfer@solacc.edu. \n*BITS= Business\, IT & Technical Studies
URL:https://doc.la.gov/event/south-louisiana-community-college-bits-stem-career-fair/
LOCATION:South Louisiana Community College\, 320 Devalcourt St.\, Lafayette\, LA\, 70506\, United States
CATEGORIES:Job Fairs
END:VEVENT
END:VCALENDAR