BEGIN:VCALENDAR
VERSION:2.0
PRODID:-//Louisiana Department of Public Safety &amp; Corrections - ECPv6.6.4.2//NONSGML v1.0//EN
CALSCALE:GREGORIAN
METHOD:PUBLISH
X-WR-CALNAME:Louisiana Department of Public Safety &amp; Corrections
X-ORIGINAL-URL:https://doc.la.gov
X-WR-CALDESC:Events for Louisiana Department of Public Safety &amp; Corrections
REFRESH-INTERVAL;VALUE=DURATION:PT1H
X-Robots-Tag:noindex
X-PUBLISHED-TTL:PT1H
BEGIN:VTIMEZONE
TZID:America/Chicago
BEGIN:DAYLIGHT
TZOFFSETFROM:-0600
TZOFFSETTO:-0500
TZNAME:CDT
DTSTART:20210314T080000
END:DAYLIGHT
BEGIN:STANDARD
TZOFFSETFROM:-0500
TZOFFSETTO:-0600
TZNAME:CST
DTSTART:20211107T070000
END:STANDARD
END:VTIMEZONE
BEGIN:VEVENT
DTSTART;TZID=America/Chicago:20211207T080000
DTEND;TZID=America/Chicago:20211210T170000
DTSTAMP:20260420T195448
CREATED:20211119T182249Z
LAST-MODIFIED:20211119T182352Z
UID:5945-1638864000-1639155600@doc.la.gov
SUMMARY:NIGP Annual Conference
DESCRIPTION:The Louisiana Chapter of NIGP’s Annual Education Conference and Products Expo. The conference ends at noon on Dec. 10th.
URL:https://doc.la.gov/event/nigp-annual-conference/
LOCATION:Golden Nugget Lake Charles Hotel & Casino\, 2550 Golden Nugget Blvd\, Lake Charles\, LA\, 70601\, United States
CATEGORIES:Departmental Events
END:VEVENT
BEGIN:VEVENT
DTSTART;TZID=America/Chicago:20211011T080000
DTEND;TZID=America/Chicago:20211013T170000
DTSTAMP:20260420T195448
CREATED:20211119T181849Z
LAST-MODIFIED:20211119T182326Z
UID:5941-1633939200-1634144400@doc.la.gov
SUMMARY:LCA Conference 2021
DESCRIPTION:Louisiana Correctional Associations Annual Training Conference
URL:https://doc.la.gov/event/lca-conference-2021/
LOCATION:Golden Nugget Lake Charles Hotel & Casino\, 2550 Golden Nugget Blvd\, Lake Charles\, LA\, 70601\, United States
CATEGORIES:Departmental Events
END:VEVENT
END:VCALENDAR